BEGIN:VCALENDAR
VERSION:2.0
PRODID:-//German Dancing Orlando  - Schuhplattler Gruppe Alpenrose - ECPv6.15.20//NONSGML v1.0//EN
CALSCALE:GREGORIAN
METHOD:PUBLISH
X-WR-CALNAME:German Dancing Orlando  - Schuhplattler Gruppe Alpenrose
X-ORIGINAL-URL:https://germandancers.com
X-WR-CALDESC:Events for German Dancing Orlando  - Schuhplattler Gruppe Alpenrose
REFRESH-INTERVAL;VALUE=DURATION:PT1H
X-Robots-Tag:noindex
X-PUBLISHED-TTL:PT1H
BEGIN:VTIMEZONE
TZID:America/New_York
BEGIN:DAYLIGHT
TZOFFSETFROM:-0500
TZOFFSETTO:-0400
TZNAME:EDT
DTSTART:20220313T070000
END:DAYLIGHT
BEGIN:STANDARD
TZOFFSETFROM:-0400
TZOFFSETTO:-0500
TZNAME:EST
DTSTART:20221106T060000
END:STANDARD
BEGIN:DAYLIGHT
TZOFFSETFROM:-0500
TZOFFSETTO:-0400
TZNAME:EDT
DTSTART:20230312T070000
END:DAYLIGHT
BEGIN:STANDARD
TZOFFSETFROM:-0400
TZOFFSETTO:-0500
TZNAME:EST
DTSTART:20231105T060000
END:STANDARD
BEGIN:DAYLIGHT
TZOFFSETFROM:-0500
TZOFFSETTO:-0400
TZNAME:EDT
DTSTART:20240310T070000
END:DAYLIGHT
BEGIN:STANDARD
TZOFFSETFROM:-0400
TZOFFSETTO:-0500
TZNAME:EST
DTSTART:20241103T060000
END:STANDARD
BEGIN:DAYLIGHT
TZOFFSETFROM:-0500
TZOFFSETTO:-0400
TZNAME:EDT
DTSTART:20250309T070000
END:DAYLIGHT
BEGIN:STANDARD
TZOFFSETFROM:-0400
TZOFFSETTO:-0500
TZNAME:EST
DTSTART:20251102T060000
END:STANDARD
END:VTIMEZONE
BEGIN:VTIMEZONE
TZID:UTC
BEGIN:STANDARD
TZOFFSETFROM:+0000
TZOFFSETTO:+0000
TZNAME:UTC
DTSTART:20170101T000000
END:STANDARD
END:VTIMEZONE
BEGIN:VEVENT
DTSTART;TZID=America/New_York:20240224T170000
DTEND;TZID=America/New_York:20240224T230000
DTSTAMP:20260423T090234
CREATED:20240129T174425Z
LAST-MODIFIED:20240215T221045Z
UID:884-1708794000-1708815600@germandancers.com
SUMMARY:Trachtenfest at the Orlando German Club
DESCRIPTION:Click thumbnail below to view invitation. \n \nFEBRUARY 24\, 2024 at the  \nGerman American Society of Central Florida\n\n5:00 PM Doors Open\n5:30 PM Dinner\n6:40 PM Entertainment
URL:https://germandancers.com/event/trachtenfest-at-the-orlando-german-club/
LOCATION:Orlando German Club\, 381 Orange Ln\, Casselberry\, FL\, 32707\, United States
ORGANIZER;CN="Orlando German Club":MAILTO:info@orlandogermanclub.com
END:VEVENT
BEGIN:VEVENT
DTSTART;TZID=America/New_York:20231028T120000
DTEND;TZID=America/New_York:20231028T220000
DTSTAMP:20260423T090234
CREATED:20230714T173443Z
LAST-MODIFIED:20230714T173443Z
UID:846-1698494400-1698530400@germandancers.com
SUMMARY:Oktoberfest at the Orlando German Club
DESCRIPTION:
URL:https://germandancers.com/event/oktoberfest-at-the-orlando-german-club-2/
LOCATION:Orlando German Club\, 381 Orange Ln\, Casselberry\, FL\, 32707\, United States
ORGANIZER;CN="Oktoberfest at the Orlando German Club":MAILTO:info@orlandogermanclub.com
END:VEVENT
BEGIN:VEVENT
DTSTART;TZID=America/New_York:20231013T170000
DTEND;TZID=America/New_York:20231014T220000
DTSTAMP:20260423T090234
CREATED:20181009T192745Z
LAST-MODIFIED:20230714T175522Z
UID:366-1697216400-1697320800@germandancers.com
SUMMARY:Avalon Park Oktoberfest
DESCRIPTION:Our group’s annual fundraiser: \nBiergarten preview Friday October 13th from 5 pm to 10 pm. \nAvalon Oktoberfest is October 14th from 5 pm to 10 pm\, our group is hosting the Biergarten (Beer Garden) in front of the Avalon Park Amphitheater. \nEnjoy German food & beer\, Schuhplattler dancing and musical entertainment by the Europa Band. \n \n  \n 
URL:https://germandancers.com/event/biergarten-preview-and-avalon-park-oktoberfest/
LOCATION:Avalon Park\, 3651 Avalon Park E Blvd\,\, Orlando\, FL\, 32828
END:VEVENT
BEGIN:VEVENT
DTSTART;TZID=America/New_York:20231007T120000
DTEND;TZID=America/New_York:20231007T220000
DTSTAMP:20260423T090234
CREATED:20230714T173221Z
LAST-MODIFIED:20230714T173603Z
UID:843-1696680000-1696716000@germandancers.com
SUMMARY:Oktoberfest at the Orlando German Club
DESCRIPTION:
URL:https://germandancers.com/event/oktoberfest-at-the-orlando-german-club/
LOCATION:Orlando German Club\, 381 Orange Ln\, Casselberry\, FL\, 32707\, United States
ORGANIZER;CN="Orlando German Club":MAILTO:info@orlandogermanclub.com
END:VEVENT
BEGIN:VEVENT
DTSTART;TZID=UTC:20190412T170000
DTEND;TZID=UTC:20190413T220000
DTSTAMP:20260423T090234
CREATED:20181020T185318Z
LAST-MODIFIED:20190226T234321Z
UID:606-1555088400-1555192800@germandancers.com
SUMMARY:Springtoberfest
DESCRIPTION:Join us at in our Biergarten on April 12 &13 2019 at the Absolutely Avalon festival. \n  \nFlags\n \nMädchen
URL:https://germandancers.com/event/springtoberfest/
LOCATION:Avalon Park\, 3651 Avalon Park E Blvd\,\, Orlando\, FL\, 32828
END:VEVENT
BEGIN:VEVENT
DTSTART;TZID=UTC:20190406T140000
DTEND;TZID=UTC:20190407T220000
DTSTAMP:20260423T090234
CREATED:20190225T235810Z
LAST-MODIFIED:20190226T010357Z
UID:644-1554559200-1554674400@germandancers.com
SUMMARY:Hollerbach's Willow Tree Cafe Springfest
DESCRIPTION:Our gruppe will be performing Saturday and Sunday at this fun event. \n \n \n \nCheck it out the event on facebook. \nhttps://www.facebook.com/events/310279792942889/
URL:https://germandancers.com/event/hollerbachs-willow-tree-cafe-springfest/
LOCATION:Hollerbach’s Willow Tree Cafe\, 205 E 1st St\,\, Sanford\, FL\, 32771\, United States
END:VEVENT
BEGIN:VEVENT
DTSTART;TZID=UTC:20181124T120000
DTEND;TZID=UTC:20181125T190000
DTSTAMP:20260423T090234
CREATED:20181011T172440Z
LAST-MODIFIED:20181012T060648Z
UID:562-1543060800-1543172400@germandancers.com
SUMMARY:Fusionfest
DESCRIPTION:Our group will be performing on Saturday November 24th\, 2018. \nParade will be Saturday\, November 24:    10:15 a.m. \nThe parade proceeds down Orange Avenue\, from Concord to South streets.
URL:https://germandancers.com/event/fusionfest/
LOCATION:FL\, United States
END:VEVENT
BEGIN:VEVENT
DTSTART;VALUE=DATE:20181027
DTEND;VALUE=DATE:20181029
DTSTAMP:20260423T090234
CREATED:20181009T201430Z
LAST-MODIFIED:20181011T091757Z
UID:392-1540598400-1540771199@germandancers.com
SUMMARY:Sarasota Oktoberfest
DESCRIPTION:We will be performing at the Oktoberfest in beautiful downtown Sarasota on Gulf Stream on: \nSaturday & Sunday: October 27-28\, 2018. \nHours are 10am – 8pm and admission is free.  Music on Saturday will be provided by the OktoberFest Band and on Sunday by Alpine Doc & Fraeulein Gretel. Bavarian dancing throughout the weekend will be provided by Schuhplattler Gruppe Alpenrose.  Also enjoy a marketplace of arts\, crafts and fine products.
URL:https://germandancers.com/event/sarasota-oktoberfest/
LOCATION:Downtown Sarasota\, 33 S Gulfstream Ave\, Sarasota\, FL\, 34236
END:VEVENT
BEGIN:VEVENT
DTSTART;TZID=UTC:20181021T110000
DTEND;TZID=UTC:20181021T210000
DTSTAMP:20260423T090234
CREATED:20181009T195619Z
LAST-MODIFIED:20181009T200615Z
UID:389-1540119600-1540155600@germandancers.com
SUMMARY:Oktoberfest at Southport Community Park in Central Orlando
DESCRIPTION:We will be performing on October 21st \, 2018 at Southport Park in Orlando: 4:15 & 6 pm shows \nFree Community Event.  Nonprofit organization benefiting Diana’s Friends\, Inc. and Easter Seals Camp Challenge.
URL:https://germandancers.com/event/oktoberfest-at-southport-community-park-in-central-orlando/
LOCATION:Southport Community Park\, 3437 Barnstable Place\, Orlando\, FL\, 32827
END:VEVENT
BEGIN:VEVENT
DTSTART;VALUE=DATE:20181019
DTEND;VALUE=DATE:20181022
DTSTAMP:20260423T090234
CREATED:20181009T194657Z
LAST-MODIFIED:20181011T091814Z
UID:384-1539907200-1540166399@germandancers.com
SUMMARY:Crooked Can Brewery Oktoberfest Winter Garden
DESCRIPTION:FRIDAY-SATURDAY-SUNDAY \nFriday October 19th: 6:30 & 7:30 shows. \nSaturday October 20th: 2\, 3\, 6 & 7pm shows. \nSunday October 21st: 1:30 & 2:30 shows. \n 
URL:https://germandancers.com/event/crooked-can-brewery-oktoberfest-winter-garden/
LOCATION:Crooked Can Brewery Winter Garden\, 426 W Plant St\, Winter Garden\, 34787
END:VEVENT
BEGIN:VEVENT
DTSTART;TZID=UTC:20181014T120000
DTEND;TZID=UTC:20181014T183000
DTSTAMP:20260423T090234
CREATED:20181009T184610Z
LAST-MODIFIED:20181009T203059Z
UID:358-1539518400-1539541800@germandancers.com
SUMMARY:Downtown Sanford Oktoberfest
DESCRIPTION:Our dance group is performing on Sunday – October 14th \n@ 1:30 pm and 3:15 pm \nAt Hollerbach’s Oktoberfest Weekend Event 
URL:https://germandancers.com/event/downtown-sanford-oktoberfest/
LOCATION:Downtown Sanford\, 205 E First Street\, Sanford\, FL\, 32771
END:VEVENT
BEGIN:VEVENT
DTSTART;TZID=UTC:20181001T183000
DTEND;TZID=UTC:20181001T193000
DTSTAMP:20260423T090234
CREATED:20181009T211935Z
LAST-MODIFIED:20181009T211935Z
UID:438-1538418600-1538422200@germandancers.com
SUMMARY:Atria Park of Lake Forest
DESCRIPTION:Private Event. \nAssisted living facility / Oktoberfest for the residents.
URL:https://germandancers.com/event/atria-park-of-lake-forest/
LOCATION:Atria Park of Lake Forrest\, 5433 West State Road 46\, Sanford\, FL\, 32771
END:VEVENT
BEGIN:VEVENT
DTSTART;TZID=UTC:20180929T170000
DTEND;TZID=UTC:20180929T230000
DTSTAMP:20260423T090234
CREATED:20181009T211025Z
LAST-MODIFIED:20181009T211025Z
UID:435-1538240400-1538262000@germandancers.com
SUMMARY:Von Stephan Village Bier Garten Restaurant in Cocoa Village
DESCRIPTION:Performance Saturday September 29th @ 5:30 pm and 7 pm.
URL:https://germandancers.com/event/von-stephan-village-bier-garten-restaurant-in-cocoa-village/
LOCATION:Von Stephan Village Bier Garten Restaurant\, 415 Delannoy Avenue\, Cocoa\, FL\, 32922
END:VEVENT
BEGIN:VEVENT
DTSTART;VALUE=DATE:20180928
DTEND;VALUE=DATE:20180930
DTSTAMP:20260423T090234
CREATED:20181009T210244Z
LAST-MODIFIED:20181011T091847Z
UID:412-1538092800-1538265599@germandancers.com
SUMMARY:Shades of Green Oktoberfest at Disney
DESCRIPTION:Performance on Friday September 28th @ 6:30 pm and 8 pm \nAnd Saturday September 29th @ 6:30 pm and 8 pm
URL:https://germandancers.com/event/shades-of-green-oktoberfest-at-disney/
LOCATION:Shades of Green Disney Hotel\, 1950 West Magnolia Palm Drive\, Lake Buena Vista\, FL\, 32830
END:VEVENT
BEGIN:VEVENT
DTSTART;TZID=UTC:20180922T140000
DTEND;TZID=UTC:20180922T200000
DTSTAMP:20260423T090234
CREATED:20181009T202536Z
LAST-MODIFIED:20181009T210527Z
UID:402-1537624800-1537646400@germandancers.com
SUMMARY:Festival of Nations Deltona
DESCRIPTION:Dewey O. Boster Sports Complex – Annual Festival of Nations Event \nSeptember 22nd 2018: Performance at 3 pm.
URL:https://germandancers.com/event/festival-of-nations-deltona/
LOCATION:Dewey O. Boster Sports Complex\, 1200 Saxon Blvd.\, Deltona\, FL\, 32720
END:VEVENT
END:VCALENDAR